Package: INTACT Version: 1.6.0 Command: F:\biocbuild\bbs-3.20-bioc\R\bin\R.exe CMD INSTALL INTACT StartedAt: 2025-03-31 15:33:15 -0400 (Mon, 31 Mar 2025) EndedAt: 2025-03-31 15:33:44 -0400 (Mon, 31 Mar 2025) EllapsedTime: 28.7 seconds RetCode: 0 Status: OK