Package: INSPEcT Version: 1.36.0 Command: /home/biocbuild/R/R/bin/R CMD check --install=check:INSPEcT.install-out.txt --library=/home/biocbuild/R/R/site-library --no-vignettes --timings INSPEcT_1.36.0.tar.gz StartedAt: 2025-04-01 07:33:03 -0000 (Tue, 01 Apr 2025) EndedAt: 2025-04-01 07:48:34 -0000 (Tue, 01 Apr 2025) EllapsedTime: 931.1 seconds RetCode: 0 Status: OK CheckDir: INSPEcT.Rcheck Warnings: 0