############################################################################## ############################################################################## ### ### Running command: ### ### /home/biocbuild/R/R/bin/R CMD check --install=check:INSPEcT.install-out.txt --library=/home/biocbuild/R/R/site-library --no-vignettes --timings INSPEcT_1.36.0.tar.gz ### ############################################################################## ############################################################################## * using log directory ‘/home/biocbuild/bbs-3.20-bioc/meat/INSPEcT.Rcheck’ * using R version 4.4.3 (2025-02-28) * using platform: aarch64-unknown-linux-gnu * R was compiled by aarch64-unknown-linux-gnu-gcc (GCC) 14.2.0 GNU Fortran (GCC) 14.2.0 * running under: openEuler 24.03 (LTS) * using session charset: UTF-8 * using option ‘--no-vignettes’ * checking for file ‘INSPEcT/DESCRIPTION’ ... OK * checking extension type ... Package * this is package ‘INSPEcT’ version ‘1.36.0’ * checking package namespace information ... OK * checking package dependencies ... OK * checking if this is a source package ... OK * checking if there is a namespace ... OK * checking for hidden files and directories ... OK * checking for portable file names ... OK * checking for sufficient/correct file permissions ... OK * checking whether package ‘INSPEcT’ can be installed ... OK * checking installed package size ... NOTE installed size is 7.1Mb sub-directories of 1Mb or more: R 1.8Mb data 2.8Mb * checking package directory ... OK * checking ‘build’ directory ... OK * checking DESCRIPTION meta-information ... OK * checking top-level files ... OK * checking for left-over files ... OK * checking index information ... OK * checking package subdirectories ... OK * checking code files for non-ASCII characters ... OK * checking R files for syntax errors ... OK * checking whether the package can be loaded ... OK * checking whether the package can be loaded with stated dependencies ... OK * checking whether the package can be unloaded cleanly ... OK * checking whether the namespace can be loaded with stated dependencies ... OK * checking whether the namespace can be unloaded cleanly ... OK * checking loading without being on the library search path ... OK * checking dependencies in R code ... OK * checking S3 generic/method consistency ... OK * checking replacement functions ... OK * checking foreign function calls ... OK * checking R code for possible problems ... NOTE output_pars: no visible global function definition for ‘plot.new’ plotSingleRNADynamic: no visible global function definition for ‘lines’ Undefined global functions or variables: lines plot.new Consider adding importFrom("graphics", "lines", "plot.new") to your NAMESPACE file. * checking Rd files ... OK * checking Rd metadata ... OK * checking Rd cross-references ... OK * checking for missing documentation entries ... OK * checking for code/documentation mismatches ... OK * checking Rd \usage sections ... OK * checking Rd contents ... OK * checking for unstated dependencies in examples ... OK * checking contents of ‘data’ directory ... OK * checking data for non-ASCII characters ... OK * checking data for ASCII and uncompressed saves ... OK * checking files in ‘vignettes’ ... OK * checking examples ... OK Examples with CPU (user + system) or elapsed time > 5s user system elapsed makeSimDataset 114.149 0.351 114.758 quantifyExpressionsFromBAMs 42.225 0.259 43.392 rocThresholds 39.654 0.211 39.955 makeSimModel 39.071 0.128 39.285 rocCurve 38.680 0.068 38.846 INSPEcT_diffsteady-class 38.309 0.224 38.622 plotMA 36.009 0.088 36.178 compareSteady 34.789 0.071 34.942 modelRates 22.491 0.112 22.653 quantifyExpressionsFromTrCounts 21.275 0.172 21.501 newINSPEcT 20.647 0.127 20.823 processingDelay 19.381 0.036 19.462 makeOscillatorySimModel 10.053 0.116 10.197 compareSteadyNoNascent 7.718 0.016 7.752 * checking for unstated dependencies in vignettes ... OK * checking package vignettes ... OK * checking running R code from vignettes ... SKIPPED * checking re-building of vignette outputs ... SKIPPED * checking PDF version of manual ... OK * DONE Status: 2 NOTEs See ‘/home/biocbuild/bbs-3.20-bioc/meat/INSPEcT.Rcheck/00check.log’ for details.