Package: INSPEcT Version: 1.36.0 Command: chmod a+r INSPEcT -R && F:\biocbuild\bbs-3.20-bioc\R\bin\R.exe CMD build --keep-empty-dirs --no-resave-data INSPEcT StartedAt: 2025-03-31 19:41:28 -0400 (Mon, 31 Mar 2025) EndedAt: 2025-03-31 19:50:10 -0400 (Mon, 31 Mar 2025) EllapsedTime: 522.5 seconds RetCode: 0 Status: OK PackageFile: INSPEcT_1.36.0.tar.gz PackageFileSize: 7.045 MiB