Package: INSPEcT Version: 1.36.0 Command: /Library/Frameworks/R.framework/Resources/bin/R CMD build --keep-empty-dirs --no-resave-data INSPEcT StartedAt: 2025-03-31 19:31:23 -0400 (Mon, 31 Mar 2025) EndedAt: 2025-03-31 19:50:01 -0400 (Mon, 31 Mar 2025) EllapsedTime: 1117.8 seconds RetCode: 0 Status: OK PackageFile: INSPEcT_1.36.0.tar.gz PackageFileSize: 7.814 MiB