Package: INPower Version: 1.42.0 Command: rm -rf INPower.buildbin-libdir && mkdir INPower.buildbin-libdir && F:\biocbuild\bbs-3.20-bioc\R\bin\R.exe CMD INSTALL --build --library=INPower.buildbin-libdir INPower_1.42.0.tar.gz StartedAt: 2025-04-01 08:26:09 -0400 (Tue, 01 Apr 2025) EndedAt: 2025-04-01 08:26:15 -0400 (Tue, 01 Apr 2025) EllapsedTime: 6.8 seconds RetCode: 0 Status: OK PackageFile: INPower_1.42.0.zip PackageFileSize: 86.39 KiB