Package: INPower Version: 1.42.0 Command: /Library/Frameworks/R.framework/Resources/bin/R CMD build --keep-empty-dirs --no-resave-data INPower StartedAt: 2025-04-01 01:41:21 -0400 (Tue, 01 Apr 2025) EndedAt: 2025-04-01 01:41:29 -0400 (Tue, 01 Apr 2025) EllapsedTime: 9.0 seconds RetCode: 0 Status: OK PackageFile: INPower_1.42.0.tar.gz PackageFileSize: 146.2 KiB