Package: INDEED Version: 2.20.0 Command: /home/biocbuild/R/R/bin/R CMD check --install=check:INDEED.install-out.txt --library=/home/biocbuild/R/R/site-library --no-vignettes --timings INDEED_2.20.0.tar.gz StartedAt: 2025-04-01 07:31:43 -0000 (Tue, 01 Apr 2025) EndedAt: 2025-04-01 07:33:15 -0000 (Tue, 01 Apr 2025) EllapsedTime: 92.1 seconds RetCode: 0 Status: OK CheckDir: INDEED.Rcheck Warnings: 0