Package: IMPCdata Version: 1.42.0 Command: /home/biocbuild/R/R/bin/R CMD check --install=check:IMPCdata.install-out.txt --library=/home/biocbuild/R/R/site-library --no-vignettes --timings IMPCdata_1.42.0.tar.gz StartedAt: 2025-04-01 07:31:11 -0000 (Tue, 01 Apr 2025) EndedAt: 2025-04-01 07:33:03 -0000 (Tue, 01 Apr 2025) EllapsedTime: 112.1 seconds RetCode: 0 Status: OK CheckDir: IMPCdata.Rcheck Warnings: 0