Package: IMPCdata Version: 1.42.0 Command: rm -rf IMPCdata.buildbin-libdir && mkdir IMPCdata.buildbin-libdir && F:\biocbuild\bbs-3.20-bioc\R\bin\R.exe CMD INSTALL --build --library=IMPCdata.buildbin-libdir IMPCdata_1.42.0.tar.gz StartedAt: 2025-04-01 08:25:48 -0400 (Tue, 01 Apr 2025) EndedAt: 2025-04-01 08:26:00 -0400 (Tue, 01 Apr 2025) EllapsedTime: 12.8 seconds RetCode: 0 Status: OK PackageFile: IMPCdata_1.42.0.zip PackageFileSize: 161 KiB