Package: IMPCdata Version: 1.42.0 Command: /home/biocbuild/bbs-3.20-bioc/R/bin/R CMD check --install=check:IMPCdata.install-out.txt --library=/home/biocbuild/bbs-3.20-bioc/R/site-library --timings IMPCdata_1.42.0.tar.gz StartedAt: 2025-03-31 23:07:45 -0400 (Mon, 31 Mar 2025) EndedAt: 2025-03-31 23:09:56 -0400 (Mon, 31 Mar 2025) EllapsedTime: 131.1 seconds RetCode: 0 Status: OK CheckDir: IMPCdata.Rcheck Warnings: 0