Package: IMPCdata Version: 1.42.0 Command: rm -rf IMPCdata.buildbin-libdir && mkdir IMPCdata.buildbin-libdir && /Users/biocbuild/BBS/utils/build-universal.sh IMPCdata_1.42.0.tar.gz /Library/Frameworks/R.framework/Resources/bin/R IMPCdata.buildbin-libdir StartedAt: 2025-04-01 12:04:44 -0400 (Tue, 01 Apr 2025) EndedAt: 2025-04-01 12:04:49 -0400 (Tue, 01 Apr 2025) EllapsedTime: 5.4 seconds RetCode: 0 Status: OK PackageFile: IMPCdata_1.42.0.tgz PackageFileSize: 158 KiB