Package: IMPCdata Version: 1.42.0 Command: /Library/Frameworks/R.framework/Resources/bin/R CMD build --keep-empty-dirs --no-resave-data IMPCdata StartedAt: 2025-04-01 01:35:45 -0400 (Tue, 01 Apr 2025) EndedAt: 2025-04-01 01:36:17 -0400 (Tue, 01 Apr 2025) EllapsedTime: 31.6 seconds RetCode: 0 Status: OK PackageFile: IMPCdata_1.42.0.tar.gz PackageFileSize: 107.3 KiB