Package: IMMAN Version: 1.26.0 Command: /home/biocbuild/R/R/bin/R CMD INSTALL IMMAN StartedAt: 2025-03-31 20:25:17 -0000 (Mon, 31 Mar 2025) EndedAt: 2025-03-31 20:25:34 -0000 (Mon, 31 Mar 2025) EllapsedTime: 16.7 seconds RetCode: 0 Status: OK