Package: IMAS Version: 1.30.0 Command: chmod a+r IMAS -R && F:\biocbuild\bbs-3.20-bioc\R\bin\R.exe CMD build --keep-empty-dirs --no-resave-data IMAS StartedAt: 2025-03-31 19:37:55 -0400 (Mon, 31 Mar 2025) EndedAt: 2025-03-31 19:41:44 -0400 (Mon, 31 Mar 2025) EllapsedTime: 229.4 seconds RetCode: 0 Status: OK PackageFile: IMAS_1.30.0.tar.gz PackageFileSize: 600.6 KiB