Package: IMAS Version: 1.30.0 Command: rm -rf IMAS.buildbin-libdir && mkdir IMAS.buildbin-libdir && F:\biocbuild\bbs-3.20-bioc\R\bin\R.exe CMD INSTALL --build --library=IMAS.buildbin-libdir IMAS_1.30.0.tar.gz StartedAt: 2025-04-01 08:25:28 -0400 (Tue, 01 Apr 2025) EndedAt: 2025-04-01 08:26:28 -0400 (Tue, 01 Apr 2025) EllapsedTime: 60.8 seconds RetCode: 0 Status: OK PackageFile: IMAS_1.30.0.zip PackageFileSize: 777.5 KiB