Package: IMAS Version: 1.30.0 Command: /Library/Frameworks/R.framework/Resources/bin/R CMD build --keep-empty-dirs --no-resave-data IMAS StartedAt: 2025-03-31 19:28:09 -0400 (Mon, 31 Mar 2025) EndedAt: 2025-03-31 19:32:03 -0400 (Mon, 31 Mar 2025) EllapsedTime: 234.8 seconds RetCode: 0 Status: OK PackageFile: IMAS_1.30.0.tar.gz PackageFileSize: 601 KiB