Package: ILoReg Version: 1.16.0 Command: /home/biocbuild/R/R/bin/R CMD INSTALL ILoReg StartedAt: 2025-03-31 21:11:12 -0000 (Mon, 31 Mar 2025) EndedAt: 2025-03-31 21:11:49 -0000 (Mon, 31 Mar 2025) EllapsedTime: 37.6 seconds RetCode: 0 Status: OK