Package: ILoReg Version: 1.16.0 Command: /Library/Frameworks/R.framework/Resources/bin/R CMD INSTALL ILoReg StartedAt: 2025-03-31 18:18:53 -0400 (Mon, 31 Mar 2025) EndedAt: 2025-03-31 18:19:27 -0400 (Mon, 31 Mar 2025) EllapsedTime: 33.5 seconds RetCode: 0 Status: OK