Package: IHW Version: 1.34.0 Command: F:\biocbuild\bbs-3.20-bioc\R\bin\R.exe CMD INSTALL IHW StartedAt: 2025-03-31 15:33:53 -0400 (Mon, 31 Mar 2025) EndedAt: 2025-03-31 15:34:15 -0400 (Mon, 31 Mar 2025) EllapsedTime: 22.5 seconds RetCode: 0 Status: OK