Package: IHW Version: 1.34.0 Command: /Library/Frameworks/R.framework/Resources/bin/R CMD check --install=check:IHW.install-out.txt --library=/Library/Frameworks/R.framework/Resources/library --no-vignettes --timings IHW_1.34.0.tar.gz StartedAt: 2025-04-01 04:27:25 -0400 (Tue, 01 Apr 2025) EndedAt: 2025-04-01 04:29:05 -0400 (Tue, 01 Apr 2025) EllapsedTime: 99.6 seconds RetCode: 0 Status: OK CheckDir: IHW.Rcheck Warnings: 0