Package: IFAA Version: 1.8.0 Command: F:\biocbuild\bbs-3.20-bioc\R\bin\R.exe CMD INSTALL IFAA StartedAt: 2025-03-31 16:32:51 -0400 (Mon, 31 Mar 2025) EndedAt: 2025-03-31 16:33:42 -0400 (Mon, 31 Mar 2025) EllapsedTime: 51.0 seconds RetCode: 0 Status: OK