Package: IFAA Version: 1.8.0 Command: /home/biocbuild/bbs-3.20-bioc/R/bin/R CMD build --keep-empty-dirs --no-resave-data --md5 IFAA StartedAt: 2025-03-31 17:40:42 -0400 (Mon, 31 Mar 2025) EndedAt: 2025-03-31 17:42:52 -0400 (Mon, 31 Mar 2025) EllapsedTime: 130.2 seconds RetCode: 0 Status: OK PackageFile: IFAA_1.8.0.tar.gz PackageFileSize: 299.4 KiB