Package: IFAA Version: 1.8.0 Command: /Library/Frameworks/R.framework/Resources/bin/R CMD INSTALL IFAA StartedAt: 2025-03-31 16:07:47 -0400 (Mon, 31 Mar 2025) EndedAt: 2025-03-31 16:08:44 -0400 (Mon, 31 Mar 2025) EllapsedTime: 57.0 seconds RetCode: 0 Status: OK