Package: IFAA Version: 1.8.0 Command: /Library/Frameworks/R.framework/Resources/bin/R CMD check --install=check:IFAA.install-out.txt --library=/Library/Frameworks/R.framework/Resources/library --no-vignettes --timings IFAA_1.8.0.tar.gz StartedAt: 2025-04-01 04:26:50 -0400 (Tue, 01 Apr 2025) EndedAt: 2025-04-01 04:41:30 -0400 (Tue, 01 Apr 2025) EllapsedTime: 879.4 seconds RetCode: 0 Status: OK CheckDir: IFAA.Rcheck Warnings: 0