Package: HybridExpress Version: 1.2.0 Command: chmod a+r HybridExpress -R && F:\biocbuild\bbs-3.20-bioc\R\bin\R.exe CMD build --keep-empty-dirs --no-resave-data HybridExpress StartedAt: 2025-03-31 19:34:55 -0400 (Mon, 31 Mar 2025) EndedAt: 2025-03-31 19:37:53 -0400 (Mon, 31 Mar 2025) EllapsedTime: 178.0 seconds RetCode: 0 Status: OK PackageFile: HybridExpress_1.2.0.tar.gz PackageFileSize: 2.384 MiB