Package: HybridExpress Version: 1.2.0 Command: /Library/Frameworks/R.framework/Resources/bin/R CMD check --install=check:HybridExpress.install-out.txt --library=/Library/Frameworks/R.framework/Resources/library --no-vignettes --timings HybridExpress_1.2.0.tar.gz StartedAt: 2025-04-01 04:22:38 -0400 (Tue, 01 Apr 2025) EndedAt: 2025-04-01 04:30:52 -0400 (Tue, 01 Apr 2025) EllapsedTime: 494.1 seconds RetCode: 0 Status: OK CheckDir: HybridExpress.Rcheck Warnings: 0