Package: HubPub Version: 1.14.1 Command: /Library/Frameworks/R.framework/Resources/bin/R CMD INSTALL HubPub StartedAt: 2025-03-31 15:45:00 -0400 (Mon, 31 Mar 2025) EndedAt: 2025-03-31 15:45:08 -0400 (Mon, 31 Mar 2025) EllapsedTime: 7.9 seconds RetCode: 0 Status: OK