Package: HubPub Version: 1.14.1 Command: /Library/Frameworks/R.framework/Resources/bin/R CMD check --install=check:HubPub.install-out.txt --library=/Library/Frameworks/R.framework/Resources/library --no-vignettes --timings HubPub_1.14.1.tar.gz StartedAt: 2025-04-01 04:22:16 -0400 (Tue, 01 Apr 2025) EndedAt: 2025-04-01 04:25:21 -0400 (Tue, 01 Apr 2025) EllapsedTime: 184.9 seconds RetCode: 0 Status: OK CheckDir: HubPub.Rcheck Warnings: 0