Package: HoloFoodR Version: 1.0.0 Command: /home/biocbuild/R/R/bin/R CMD INSTALL HoloFoodR StartedAt: 2025-03-31 20:38:26 -0000 (Mon, 31 Mar 2025) EndedAt: 2025-03-31 20:39:03 -0000 (Mon, 31 Mar 2025) EllapsedTime: 36.7 seconds RetCode: 0 Status: OK