Package: HoloFoodR Version: 1.0.0 Command: /home/biocbuild/bbs-3.20-bioc/R/bin/R CMD INSTALL HoloFoodR StartedAt: 2025-03-31 15:31:24 -0400 (Mon, 31 Mar 2025) EndedAt: 2025-03-31 15:31:52 -0400 (Mon, 31 Mar 2025) EllapsedTime: 28.3 seconds RetCode: 0 Status: OK