Package: HoloFoodR Version: 1.0.0 Command: /home/biocbuild/bbs-3.20-bioc/R/bin/R CMD build --keep-empty-dirs --no-resave-data --md5 HoloFoodR StartedAt: 2025-03-31 17:38:22 -0400 (Mon, 31 Mar 2025) EndedAt: 2025-03-31 17:40:43 -0400 (Mon, 31 Mar 2025) EllapsedTime: 141.2 seconds RetCode: 0 Status: OK PackageFile: HoloFoodR_1.0.0.tar.gz PackageFileSize: 2.968 MiB