Package: HoloFoodR Version: 1.0.0 Command: /Library/Frameworks/R.framework/Resources/bin/R CMD check --install=check:HoloFoodR.install-out.txt --library=/Library/Frameworks/R.framework/Resources/library --no-vignettes --timings HoloFoodR_1.0.0.tar.gz StartedAt: 2025-04-01 04:18:52 -0400 (Tue, 01 Apr 2025) EndedAt: 2025-04-01 04:26:27 -0400 (Tue, 01 Apr 2025) EllapsedTime: 455.4 seconds RetCode: 0 Status: OK CheckDir: HoloFoodR.Rcheck Warnings: 0