Package: HoloFoodR Version: 1.0.0 Command: /Library/Frameworks/R.framework/Resources/bin/R CMD build --keep-empty-dirs --no-resave-data HoloFoodR StartedAt: 2025-03-31 19:23:45 -0400 (Mon, 31 Mar 2025) EndedAt: 2025-03-31 19:26:53 -0400 (Mon, 31 Mar 2025) EllapsedTime: 188.0 seconds RetCode: 0 Status: OK PackageFile: HoloFoodR_1.0.0.tar.gz PackageFileSize: 2.966 MiB