Package: HilbertVisGUI Version: 1.64.0 Command: /home/biocbuild/R/R/bin/R CMD INSTALL HilbertVisGUI StartedAt: 2025-03-31 20:14:18 -0000 (Mon, 31 Mar 2025) EndedAt: 2025-03-31 20:14:48 -0000 (Mon, 31 Mar 2025) EllapsedTime: 30.0 seconds RetCode: 0 Status: OK