Package: HilbertVisGUI Version: 1.64.0 Command: /home/biocbuild/R/R/bin/R CMD build --keep-empty-dirs --no-resave-data HilbertVisGUI StartedAt: 2025-04-01 00:11:45 -0000 (Tue, 01 Apr 2025) EndedAt: 2025-04-01 00:12:16 -0000 (Tue, 01 Apr 2025) EllapsedTime: 31.0 seconds RetCode: 0 Status: OK PackageFile: HilbertVisGUI_1.64.0.tar.gz PackageFileSize: 142.6 KiB