Package: HilbertVis Version: 1.64.0 Command: /home/biocbuild/R/R/bin/R CMD check --install=check:HilbertVis.install-out.txt --library=/home/biocbuild/R/R/site-library --no-vignettes --timings HilbertVis_1.64.0.tar.gz StartedAt: 2025-04-01 07:22:05 -0000 (Tue, 01 Apr 2025) EndedAt: 2025-04-01 07:22:31 -0000 (Tue, 01 Apr 2025) EllapsedTime: 26.0 seconds RetCode: 0 Status: OK CheckDir: HilbertVis.Rcheck Warnings: 0