Package: HilbertCurve Version: 2.0.0 Command: F:\biocbuild\bbs-3.20-bioc\R\bin\R.exe CMD check --no-multiarch --install=check:HilbertCurve.install-out.txt --library=F:\biocbuild\bbs-3.20-bioc\R\library --no-vignettes --timings HilbertCurve_2.0.0.tar.gz StartedAt: 2025-04-01 02:28:10 -0400 (Tue, 01 Apr 2025) EndedAt: 2025-04-01 02:30:53 -0400 (Tue, 01 Apr 2025) EllapsedTime: 163.6 seconds RetCode: 0 Status: OK CheckDir: HilbertCurve.Rcheck Warnings: 0