Package: HilbertCurve Version: 2.0.0 Command: /Library/Frameworks/R.framework/Resources/bin/R CMD check --install=check:HilbertCurve.install-out.txt --library=/Library/Frameworks/R.framework/Resources/library --no-vignettes --timings HilbertCurve_2.0.0.tar.gz StartedAt: 2025-04-01 04:15:46 -0400 (Tue, 01 Apr 2025) EndedAt: 2025-04-01 04:20:27 -0400 (Tue, 01 Apr 2025) EllapsedTime: 281.2 seconds RetCode: 0 Status: OK CheckDir: HilbertCurve.Rcheck Warnings: 0