Package: HilbertCurve Version: 2.0.0 Command: rm -rf HilbertCurve.buildbin-libdir && mkdir HilbertCurve.buildbin-libdir && /Users/biocbuild/BBS/utils/build-universal.sh HilbertCurve_2.0.0.tar.gz /Library/Frameworks/R.framework/Resources/bin/R HilbertCurve.buildbin-libdir StartedAt: 2025-04-02 14:43:51 -0400 (Wed, 02 Apr 2025) EndedAt: 2025-04-02 14:44:19 -0400 (Wed, 02 Apr 2025) EllapsedTime: 27.0 seconds RetCode: 0 Status: OK PackageFile: HilbertCurve_2.0.0.tgz PackageFileSize: 758.2 KiB