Package: HicAggR Version: 1.2.0 Command: /Library/Frameworks/R.framework/Resources/bin/R CMD INSTALL HicAggR StartedAt: 2024-11-08 15:23:48 -0500 (Fri, 08 Nov 2024) EndedAt: 2024-11-08 15:23:58 -0500 (Fri, 08 Nov 2024) EllapsedTime: 10.3 seconds RetCode: 0 Status: OK