Package: HiTC Version: 1.50.0 Command: /Library/Frameworks/R.framework/Resources/bin/R CMD INSTALL HiTC StartedAt: 2025-03-31 16:01:33 -0400 (Mon, 31 Mar 2025) EndedAt: 2025-03-31 16:02:15 -0400 (Mon, 31 Mar 2025) EllapsedTime: 41.8 seconds RetCode: 0 Status: OK