Package: HiLDA Version: 1.20.0 Command: chmod a+r HiLDA -R && F:\biocbuild\bbs-3.20-bioc\R\bin\R.exe CMD build --keep-empty-dirs --no-resave-data HiLDA StartedAt: 2025-03-31 19:32:03 -0400 (Mon, 31 Mar 2025) EndedAt: 2025-03-31 19:38:28 -0400 (Mon, 31 Mar 2025) EllapsedTime: 385.4 seconds RetCode: 0 Status: OK PackageFile: HiLDA_1.20.0.tar.gz PackageFileSize: 2.399 MiB