Package: HiLDA Version: 1.20.0 Command: /Library/Frameworks/R.framework/Resources/bin/R CMD INSTALL HiLDA StartedAt: 2025-03-31 15:37:10 -0400 (Mon, 31 Mar 2025) EndedAt: 2025-03-31 15:37:45 -0400 (Mon, 31 Mar 2025) EllapsedTime: 35.0 seconds RetCode: 0 Status: OK