Package: HiLDA Version: 1.20.0 Command: /Library/Frameworks/R.framework/Resources/bin/R CMD check --install=check:HiLDA.install-out.txt --library=/Library/Frameworks/R.framework/Resources/library --no-vignettes --timings HiLDA_1.20.0.tar.gz StartedAt: 2025-04-01 04:17:02 -0400 (Tue, 01 Apr 2025) EndedAt: 2025-04-01 04:24:59 -0400 (Tue, 01 Apr 2025) EllapsedTime: 477.2 seconds RetCode: 0 Status: OK CheckDir: HiLDA.Rcheck Warnings: 0