Package: HiLDA Version: 1.20.0 Command: /Library/Frameworks/R.framework/Resources/bin/R CMD build --keep-empty-dirs --no-resave-data HiLDA StartedAt: 2025-03-31 19:21:42 -0400 (Mon, 31 Mar 2025) EndedAt: 2025-03-31 19:30:07 -0400 (Mon, 31 Mar 2025) EllapsedTime: 505.1 seconds RetCode: 0 Status: OK PackageFile: HiLDA_1.20.0.tar.gz PackageFileSize: 2.46 MiB