Package: HiCcompare Version: 1.28.0 Command: /home/biocbuild/R/R/bin/R CMD INSTALL HiCcompare StartedAt: 2025-03-31 20:26:03 -0000 (Mon, 31 Mar 2025) EndedAt: 2025-03-31 20:26:46 -0000 (Mon, 31 Mar 2025) EllapsedTime: 42.7 seconds RetCode: 0 Status: OK