Package: HiCcompare Version: 1.28.0 Command: /Library/Frameworks/R.framework/Resources/bin/R CMD INSTALL HiCcompare StartedAt: 2025-03-31 15:24:27 -0400 (Mon, 31 Mar 2025) EndedAt: 2025-03-31 15:25:36 -0400 (Mon, 31 Mar 2025) EllapsedTime: 69.8 seconds RetCode: 0 Status: OK