Package: HiCcompare Version: 1.28.0 Command: /Library/Frameworks/R.framework/Resources/bin/R CMD build --keep-empty-dirs --no-resave-data HiCcompare StartedAt: 2025-04-01 01:10:15 -0400 (Tue, 01 Apr 2025) EndedAt: 2025-04-01 01:11:33 -0400 (Tue, 01 Apr 2025) EllapsedTime: 78.2 seconds RetCode: 0 Status: OK PackageFile: HiCcompare_1.28.0.tar.gz PackageFileSize: 3.681 MiB