Package: HiCDOC Version: 1.8.0 Command: /home/biocbuild/R/R/bin/R CMD check --install=check:HiCDOC.install-out.txt --library=/home/biocbuild/R/R/site-library --no-vignettes --timings HiCDOC_1.8.0.tar.gz StartedAt: 2025-04-01 07:20:24 -0000 (Tue, 01 Apr 2025) EndedAt: 2025-04-01 07:28:40 -0000 (Tue, 01 Apr 2025) EllapsedTime: 496.5 seconds RetCode: 0 Status: OK CheckDir: HiCDOC.Rcheck Warnings: 0